BEGIN:VCALENDAR
VERSION:2.0
PRODID:-//Tukios.com/
BEGIN:VEVENT
UID:ad77c0b7-68fd-4bc9-b584-2ba79c856a95@www.wenigfh.com
DTSTAMP:20260421T213815Z
DTSTART:20260501T160000Z
DTEND:20260501T180000Z
SUMMARY:Visitation
DESCRIPTION:
URL:https://www.wenigfh.com/obituaries/jean-sebald
LOCATION: 527 Giddings Ave  Sheboygan Falls WI 53085
GEO:43.7219866;-87.8166991
END:VEVENT
END:VCALENDAR