BEGIN:VCALENDAR
VERSION:2.0
PRODID:-//Tukios.com/
BEGIN:VEVENT
UID:db86360e-23e6-4ec6-9a11-868e52091c6a@www.wenigfh.com
DTSTAMP:20260421T213906Z
DTSTART:20260501T180000Z
DTEND:20260501T190000Z
SUMMARY:Funeral Service
DESCRIPTION:
URL:https://www.wenigfh.com/obituaries/jean-sebald
LOCATION: 527 Giddings Ave  Sheboygan Falls WI 53085
GEO:43.7219866;-87.8166991
END:VEVENT
END:VCALENDAR