BEGIN:VCALENDAR
VERSION:2.0
PRODID:-//Tukios.com/
BEGIN:VEVENT
UID:b8f65fea-63d2-4e73-a781-f0926365fb1d@www.wenigfh.com
DTSTAMP:20260421T212214Z
DTSTART:20260427T150000Z
DTEND:20260427T170000Z
SUMMARY:Visitation
DESCRIPTION:
URL:https://www.wenigfh.com/obituaries/nancy-allmann
LOCATION:Wenig Funeral Home 711 Broadway St  Sheboygan Falls WI 53085
GEO:43.726938;-87.810757
END:VEVENT
END:VCALENDAR