BEGIN:VCALENDAR
VERSION:2.0
PRODID:-//Tukios.com/
BEGIN:VEVENT
UID:6723cd58-0877-47d6-a282-9fa65b634f86@www.wenigfh.com
DTSTAMP:20260421T211804Z
DTSTART:20260427T170000Z
DTEND:20260427T180000Z
SUMMARY:Funeral Service
DESCRIPTION:
URL:https://www.wenigfh.com/obituaries/nancy-allmann
LOCATION:Wenig Funeral Home 711 Broadway St  Sheboygan Falls WI 53085
GEO:43.726938;-87.810757
END:VEVENT
END:VCALENDAR